BEGIN:VCALENDAR
VERSION:2.0
METHOD:PUBLISH
X-WR-CALNAME:Mercociudades |  junio 05 2015- junio 05 2015
PRODID:-//strange bird labs//Drupal iCal API//EN
BEGIN:VEVENT
DTSTAMP;VALUE=DATE-TIME:20260421T132858Z
DTSTART;VALUE=DATE-TIME:20150603T113700Z
DTEND;VALUE=DATE-TIME:20020203
UID:http://mercociudades.net/node/5330
URL;VALUE=URI:http://mercociudades.net/node/5330
SUMMARY:Encuentro empresarial\, organizado por la subcoordinación de la Unidad Temática de Desarrollo Económico Local
DESCRIPTION:<p>Valpara&iacute\;so\, Chile. </p>
 <p>Contacto\: <a href=\\"mailto\:jmorales@munivalpo.cl\\">jmorales@munivalpo.cl</a></p>
 
END:VEVENT
END:VCALENDAR
